BEGIN:VCALENDAR
VERSION:2.0
PRODID:-//AmarAsociacion - ECPv6.0.4//NONSGML v1.0//EN
CALSCALE:GREGORIAN
METHOD:PUBLISH
X-WR-CALNAME:AmarAsociacion
X-ORIGINAL-URL:http://www.amarasociacion.org
X-WR-CALDESC:Eventos para AmarAsociacion
REFRESH-INTERVAL;VALUE=DURATION:PT1H
X-Robots-Tag:noindex
X-PUBLISHED-TTL:PT1H
BEGIN:VTIMEZONE
TZID:UTC
BEGIN:STANDARD
TZOFFSETFROM:+0000
TZOFFSETTO:+0000
TZNAME:UTC
DTSTART:20220101T000000
END:STANDARD
END:VTIMEZONE
BEGIN:VEVENT
DTSTART;TZID=UTC:20221125T200000
DTEND;TZID=UTC:20221125T220000
DTSTAMP:20260425T153435
CREATED:20221103T045008Z
LAST-MODIFIED:20230215T110540Z
UID:3274-1669406400-1669413600@www.amarasociacion.org
SUMMARY:V Gala de la Mujer Desfile Solidario Arroyomolinos
DESCRIPTION:Este año 2022\, desde AMAR y en colaboración de todas las participantes\, organismos y patrocinadores\, os esperamos con ganas en la V GALA DE LA MUJER de Arroyomolinos. Será el día 25 de noviembre de 2022 a las 18:00 h en el Auditorio de Las Artes de Arroyomolinos. \n  \nUn ejemplo de lo que se vivió ayer en la V Gala contra los estereotipos.\nMuchas gracias al ayuntamiento de Arroyomolinos\, y sobre todo a todos los participantes\, escualos Funky Town\, Elvira Mallenco Vera\, The Fortininers\, modistas\, peluqueras\, maquilladoras\, técnicos\, organización y componentes de la asociación.\nUn año más\, luchando juntos contra esta lacra social.
URL:http://www.amarasociacion.org/event/desfile-solidario-arroyomolinos-gala-de-la-mujer/
LOCATION:Auditorio de las Artes Arroyomolinos\, C. Madrid\, 25\, 28939\, Arroyomolinos\, Madrid\, Madrid\, España
CATEGORIES:Amar Asociacion,Evento Solidario
ATTACH;FMTTYPE=image/png:http://www.amarasociacion.org/wp-content/uploads/2022/11/Captura-de-pantalla-2022-11-24-a-las-14.27.08-e1676459012722.png
END:VEVENT
END:VCALENDAR