BEGIN:VCALENDAR
VERSION:2.0
PRODID:-//AmarAsociacion - ECPv6.0.4//NONSGML v1.0//EN
CALSCALE:GREGORIAN
METHOD:PUBLISH
X-ORIGINAL-URL:http://www.amarasociacion.org
X-WR-CALDESC:Eventos para AmarAsociacion
REFRESH-INTERVAL;VALUE=DURATION:PT1H
X-Robots-Tag:noindex
X-PUBLISHED-TTL:PT1H
BEGIN:VTIMEZONE
TZID:UTC
BEGIN:STANDARD
TZOFFSETFROM:+0000
TZOFFSETTO:+0000
TZNAME:UTC
DTSTART:20250101T000000
END:STANDARD
END:VTIMEZONE
BEGIN:VEVENT
DTSTART;TZID=UTC:20250405T100000
DTEND;TZID=UTC:20250405T140000
DTSTAMP:20260421T054152
CREATED:20250408T071924Z
LAST-MODIFIED:20250408T075035Z
UID:4459-1743847200-1743861600@www.amarasociacion.org
SUMMARY:Taller Kokedamas en Familia
DESCRIPTION:¡Crea tu propio jardín en familia con nuestro taller de Kokedamas! \n¿Buscas una actividad creativa y divertida para disfrutar en familia? ¡Te invitamos a nuestro taller de kokedamas\, donde aprenderéis juntos a crear estas originales y hermosas bolas de musgo llenas de vida! \n¿Qué es un kokedama? \nUn kokedama es una técnica japonesa de jardinería que consiste en envolver las raíces de una planta en una bola de musgo y sustrato\, creando una pieza única y decorativa que puedes colgar o colocar donde más te guste. ¡Es como tener un pequeño jardín suspendido! \n¿Qué aprenderéis en este taller? \n\nIntroducción al mundo de los kokedamas: Descubriréis su historia\, los materiales necesarios y los beneficios de esta técnica.\nPaso a paso para crear vuestro kokedama: Os guiaremos a través de todo el proceso\, desde la preparación del sustrato hasta el atado final con hilo.\nConsejos para el cuidado de vuestro kokedama: Aprenderéis cómo regar\, iluminar y mantener vuestra creación para que luzca siempre radiante.\n¡Mucha diversión en familia! Disfrutaréis de un ambiente relajado y creativo donde podréis compartir un momento especial mientras creáis algo hermoso juntos.\n\n¿A quién va dirigido? \nEste taller está diseñado para familias con niños a partir de [Edad recomendada\, por ejemplo\, 6 años]. ¡No se necesita experiencia previa en jardinería! \n¿Qué incluye el taller? \n\nTodos los materiales necesarios para crear un kokedama por familia (plantas\, sustrato\, musgo\, hilo\, etc.).\nHerramientas e instrucciones paso a paso.\nAsesoramiento personalizado de nuestra experta Eva Espinosa\nUn ambiente divertido y familiar.\n¡Y os llevaréis a casa vuestra propia creación!\n\nDetalles del talle \n\nDuración: 2 horas\n\n¡Plazas limitadas! No te pierdas esta oportunidad de conectar con la naturaleza y crear un recuerdo duradero en familia. \n¡Reserva vuestras plazas hoy mismo \n¡Os esperamos para disfrutar de una experiencia verde y creativa en familia
URL:http://www.amarasociacion.org/event/taller-kokedamas-familias/
LOCATION:concejalia de igualdad\, madrid
CATEGORIES:Amar Asociacion,Evento Solidario
ATTACH;FMTTYPE=image/webp:http://www.amarasociacion.org/wp-content/uploads/2023/02/kokedama.webp
END:VEVENT
END:VCALENDAR