BEGIN:VCALENDAR
VERSION:2.0
PRODID:-//AmarAsociacion - ECPv6.0.4//NONSGML v1.0//EN
CALSCALE:GREGORIAN
METHOD:PUBLISH
X-ORIGINAL-URL:http://www.amarasociacion.org
X-WR-CALDESC:Eventos para AmarAsociacion
REFRESH-INTERVAL;VALUE=DURATION:PT1H
X-Robots-Tag:noindex
X-PUBLISHED-TTL:PT1H
BEGIN:VTIMEZONE
TZID:UTC
BEGIN:STANDARD
TZOFFSETFROM:+0000
TZOFFSETTO:+0000
TZNAME:UTC
DTSTART:20220101T000000
END:STANDARD
END:VTIMEZONE
BEGIN:VEVENT
DTSTART;TZID=UTC:20220308T080000
DTEND;TZID=UTC:20220331T170000
DTSTAMP:20260425T023532
CREATED:20230214T171907Z
LAST-MODIFIED:20230215T105018Z
UID:4209-1646726400-1648746000@www.amarasociacion.org
SUMMARY:Quiero volar
DESCRIPTION:Desde AMAR\, queremos compartir con vosotros un gran proyecto de pintura para visibilizar la violencia de género\, invitándoos a acompañarnos el día 8 de marzo a la presentación de la exposición. \nGracias al Ayuntamiento de Arroyomolinos y a PROYECTO ARTE\, tenemos el honor de invitaros a la exposición que han realizado alumnos de la escuela de pintura de Arroyomolinos\, donde han plasmado de una manera elegante los micromachismos y las sutilezas de la violencia de género. \nAquellos que no podáis asistir a la presentación de la exposición podéis deleitarla durante el mes de marzo en el Auditorio de las Letras de Arroyomolinos. \nOs esperamos.
URL:http://www.amarasociacion.org/event/quiero-volar/
LOCATION:Auditorio de las Artes Arroyomolinos\, C. Madrid\, 25\, 28939\, Arroyomolinos\, Madrid\, Madrid\, España
CATEGORIES:Amar Asociacion,Exposición
ATTACH;FMTTYPE=image/png:http://www.amarasociacion.org/wp-content/uploads/2023/02/taller-pintura-mujeres-e1676457759235.png
END:VEVENT
END:VCALENDAR